BEGIN:VCALENDAR
VERSION:2.0
CALSCALE:GREGORIAN
BEGIN:VEVENT
SUMMARY:Flow + Breathe
DTSTART;TZID=Asia/Manila:20251119T090000
DTEND;TZID=Asia/Manila:20251119T100000
LOCATION:
DESCRIPTION: A modern Hatha practice designed as a tune up for the mind and body. This class incorporates Taoist wisdom, Kundalini pranayama, sacred geometry and metaphor to engage one&#039;s imagination and connect mind, body, and breath.
STATUS:CONFIRMED
SEQUENCE:0
END:VEVENT
END:VCALENDAR