BEGIN:VCALENDAR
VERSION:2.0
CALSCALE:GREGORIAN
BEGIN:VEVENT
SUMMARY:Soulful Slow Flow
DTSTART;TZID=Asia/Manila:20251127T160000
DTEND;TZID=Asia/Manila:20251127T170000
LOCATION:
DESCRIPTION: Slow down and unwind with this deep and stretchy movement practice set to soulful sounds.
STATUS:CONFIRMED
SEQUENCE:0
END:VEVENT
END:VCALENDAR