BEGIN:VCALENDAR
VERSION:2.0
CALSCALE:GREGORIAN
BEGIN:VEVENT
SUMMARY:Gentle Flow &amp; Restore
DTSTART;TZID=Asia/Manila:20251122T160000
DTEND;TZID=Asia/Manila:20251122T170000
LOCATION:
DESCRIPTION: Chill out and treat your body with this gentle movement sequence followed by deep relaxing restorative poses.
STATUS:CONFIRMED
SEQUENCE:0
END:VEVENT
END:VCALENDAR