BEGIN:VCALENDAR
VERSION:2.0
CALSCALE:GREGORIAN
BEGIN:VEVENT
SUMMARY:Post Surf Stretch
DTSTART;TZID=Asia/Manila:20251203T160000
DTEND;TZID=Asia/Manila:20251203T170000
LOCATION:
DESCRIPTION: Decompress after surf with deep stretches and postures that melt away shoulder, hip, and lower back tension while improving mobility.
STATUS:CONFIRMED
SEQUENCE:0
END:VEVENT
END:VCALENDAR