BEGIN:VCALENDAR
VERSION:2.0
CALSCALE:GREGORIAN
BEGIN:VEVENT
SUMMARY:Rhythm &amp; Power Flow
DTSTART;TZID=Asia/Manila:20260124T090000
DTEND;TZID=Asia/Manila:20260124T100000
LOCATION:
DESCRIPTION: A high-energy power flow focused on strength, stamina, and fluid movement, guided by a beat-driven soundscape.
STATUS:CONFIRMED
SEQUENCE:0
END:VEVENT
END:VCALENDAR