BEGIN:VCALENDAR
VERSION:2.0
CALSCALE:GREGORIAN
BEGIN:VEVENT
SUMMARY:Breathe &amp; Meditate
DTSTART;TZID=Europe/Dublin:20251007T080000
DTEND;TZID=Europe/Dublin:20251007T090000
LOCATION:Delgany Studio
DESCRIPTION: This class starts with 6 sun salutations (3 x A and 3 x B), to wake up the energetic body before we sit for Pranayama and Meditation. The class finishes with a deeply relaxing, guided Shavasana. All levels are welcome.
STATUS:CONFIRMED
SEQUENCE:0
END:VEVENT
END:VCALENDAR