BEGIN:VCALENDAR
VERSION:2.0
CALSCALE:GREGORIAN
BEGIN:VEVENT
SUMMARY:Restoritave Yoga
DTSTART;TZID=Europe/Amsterdam:20200603T180000
DTEND;TZID=Europe/Amsterdam:20200603T190000
LOCATION:Room4 Velp
DESCRIPTION: Sabine Riswick is inviting you to a scheduled Zoom meeting.

Topic: Restorative met Nerini 
Time: Apr 22, 2020 06:00 PM Amsterdam
        Every week on Wed, until Jun 3, 2020, 7 occurrence(s)
        Apr 22, 2020 06:00 PM
        Apr 29, 2020 06:00 PM
        May 6, 2020 06:00 PM
        May 13, 2020 06:00 PM
        May 20, 2020 06:00 PM
        May 27, 2020 06:00 PM
        Jun 3, 2020 06:00 PM
Please download and import the following iCalendar (.ics) files to your calendar system.
Weekly: https://us02web.zoom.us/meeting/tZAlfu2vqTopGdMpOXhTTsIcPPtaHCginBef/ics?icsToken=98tyKuGspjIuHdOUsxqARpwIGor4LO3wtn5ejadwjDDdCxRncSr1BtJWM5pcF9He

Join Zoom Meeting
https://us02web.zoom.us/j/84894771337?pwd=dTlHMHphc1J5dTl2TVRLTE5RUFB4dz09

Meeting ID: 848 9477 1337
Password: 775199
One tap mobile
+19292056099,,84894771337#,,#,775199# US (New York)
+13126266799,,84894771337#,,#,775199# US (Chicago)

Dial by your location
        +1 929 205 6099 US (New York)
        +1 312 626 6799 US (Chicago)
        +1 669 900 6833 US (San Jose)
        +1 253 215 8782 US
        +1 301 715 8592 US
        +1 346 248 7799 US (Houston)
Meeting ID: 848 9477 1337
Password: 775199
Find your local number: https://us02web.zoom.us/u/keI0DMOYzH
STATUS:CONFIRMED
SEQUENCE:0
END:VEVENT
END:VCALENDAR