BEGIN:VCALENDAR
VERSION:2.0
CALSCALE:GREGORIAN
BEGIN:VEVENT
SUMMARY:Restoritave Yoga
DTSTART;TZID=Europe/Amsterdam:20201028T190000
DTEND;TZID=Europe/Amsterdam:20201028T200000
LOCATION:Room4 Velp
DESCRIPTION: Room4 Yoga is inviting you to a scheduled Zoom meeting.

Topic: Restorative Nerini
Time: Sep 2, 2020 19:00 Amsterdam
        Every week on Wed, until Oct 14, 2020, 7 occurrence(s)
        Sep 2, 2020 19:00
        Sep 9, 2020 19:00
        Sep 16, 2020 19:00
        Sep 23, 2020 19:00
        Sep 30, 2020 19:00
        Oct 7, 2020 19:00
        Oct 14, 2020 19:00
Please download and import the following iCalendar (.ics) files to your calendar system.
Weekly: https://us02web.zoom.us/meeting/tZIpcuyrrzIjH9QpcE9DTRONiMKR8LyPPBvj/ics?icsToken=98tyKuGuqj4vGdWcuRyHRpwABo_4Z-nzmFhEgvpsjBzAWgRnUCzYP89pAOpTCejg

Join Zoom Meeting
https://us02web.zoom.us/j/86455319950?pwd=blFiMTNlWXp0U2JLaHQzNmlQYjZFZz09

Meeting ID: 864 5531 9950
Passcode: 799248
STATUS:CONFIRMED
SEQUENCE:0
END:VEVENT
END:VCALENDAR