BEGIN:VCALENDAR
VERSION:2.0
CALSCALE:GREGORIAN
BEGIN:VEVENT
SUMMARY:Restoritave Yoga
DTSTART;TZID=Europe/Amsterdam:20201104T180000
DTEND;TZID=Europe/Amsterdam:20201104T190000
LOCATION:Room4 Velp
DESCRIPTION: Room4 Yoga is inviting you to a scheduled Zoom meeting.

Topic: Restorative yoga
Time: This is a recurring meeting Meet anytime

Join Zoom Meeting
https://us02web.zoom.us/j/87367791627?pwd=R2xoWnlySG8vTEZ3cWQ3ODZuUDQ2UT09

Meeting ID: 873 6779 1627
Passcode: 927170
STATUS:CONFIRMED
SEQUENCE:0
END:VEVENT
END:VCALENDAR