BEGIN:VCALENDAR
VERSION:2.0
CALSCALE:GREGORIAN
BEGIN:VEVENT
SUMMARY:Zoom les Yin yoga
DTSTART;TZID=Europe/Amsterdam:20201106T090000
DTEND;TZID=Europe/Amsterdam:20201106T100000
LOCATION:Room4 Velp
DESCRIPTION: Room4 Yoga is inviting you to a scheduled Zoom meeting.

Topic: YIN op vrijdag
Time: Oct 9, 2020 09:00 Amsterdam
        Every week on Fri, 20 occurrence(s)
        Oct 9, 2020 09:00
        Oct 16, 2020 09:00
        Oct 23, 2020 09:00
        Oct 30, 2020 09:00
        Nov 6, 2020 09:00
        Nov 13, 2020 09:00
        Nov 20, 2020 09:00
        Nov 27, 2020 09:00
        Dec 4, 2020 09:00
        Dec 11, 2020 09:00
        Dec 18, 2020 09:00
        Dec 25, 2020 09:00
        Jan 1, 2021 09:00
        Jan 8, 2021 09:00
        Jan 15, 2021 09:00
        Jan 22, 2021 09:00
        Jan 29, 2021 09:00
        Feb 5, 2021 09:00
        Feb 12, 2021 09:00
        Feb 19, 2021 09:00
Please download and import the following iCalendar (.ics) files to your calendar system.
Weekly: https://us02web.zoom.us/meeting/tZAvcOGurDMuHNdnH_CxNNfG88AZIJ4OvLR6/ics?icsToken=98tyKuGsrDwiHNadtB-ERpwIAI_CWe7zplxbgo1ZkjfaIDh9TAXRbrpjCJtVRPfG

Join Zoom Meeting
https://us02web.zoom.us/j/84278628463?pwd=T0ZueHgrZHpaSkZ5d1A4OWFBNm1Edz09

Meeting ID: 842 7862 8463
Passcode: 452763
STATUS:CONFIRMED
SEQUENCE:0
END:VEVENT
END:VCALENDAR