BEGIN:VCALENDAR
VERSION:2.0
CALSCALE:GREGORIAN
BEGIN:VEVENT
SUMMARY:Hatha Yoga*, live
DTSTART;TZID=Europe/Amsterdam:20201124T093000
DTEND;TZID=Europe/Amsterdam:20201124T104000
LOCATION:Emmastraat 33
DESCRIPTION: Deze les wordt in de studio gegeven. Voor wie online wil deelnemen wordt de zoom link 30 min voor aanvang van de les verstuurd!
STATUS:CONFIRMED
SEQUENCE:0
END:VEVENT
END:VCALENDAR