BEGIN:VCALENDAR
VERSION:2.0
CALSCALE:GREGORIAN
BEGIN:VEVENT
SUMMARY:Zoom Hatha Yoga*
DTSTART;TZID=Europe/Amsterdam:20201229T093000
DTEND;TZID=Europe/Amsterdam:20201229T103000
LOCATION:Emmastraat 33
DESCRIPTION: Het tijdstip van deze les is eenmalig gewijzigd!!!
STATUS:CONFIRMED
SEQUENCE:0
END:VEVENT
END:VCALENDAR