BEGIN:VCALENDAR
VERSION:2.0
CALSCALE:GREGORIAN
BEGIN:VEVENT
SUMMARY:Small group Flow yoga Emmastraat
DTSTART;TZID=Europe/Amsterdam:20210211T191500
DTEND;TZID=Europe/Amsterdam:20210211T201500
LOCATION:Room4 Velp
DESCRIPTION: 
STATUS:CONFIRMED
SEQUENCE:0
END:VEVENT
END:VCALENDAR