BEGIN:VCALENDAR
VERSION:2.0
CALSCALE:GREGORIAN
BEGIN:VEVENT
SUMMARY:Yin met Marije
DTSTART;TZID=Europe/Amsterdam:20200924T204500
DTEND;TZID=Europe/Amsterdam:20200924T214500
LOCATION:Room4 Velp
DESCRIPTION: Room4 Yoga is inviting you to a scheduled Zoom meeting.

Topic: Yin Marije op donderdag
Time: Sep 24, 2020 20:30 Amsterdam
        Every week on Thu, until Oct 1, 2020, 2 occurrence(s)
        Sep 24, 2020 20:30
        Oct 1, 2020 20:30
Please download and import the following iCalendar (.ics) files to your calendar system.
Weekly: https://us02web.zoom.us/meeting/tZElc--rqjkvGtLQv8ybid0TGnBGyNmZF_vW/ics?icsToken=98tyKuGtpj8sGdCXtRmBRpwMGo-gM-nwiHpYjbdxrQm9GiJaZlPCEexgFatRHeL2

Join Zoom Meeting
https://us02web.zoom.us/j/85846342506?pwd=dGdjeU5wRmhNTGNQREVtcm11OERjdz09

Meeting ID: 858 4634 2506
Passcode: 042397
STATUS:CONFIRMED
SEQUENCE:0
END:VEVENT
END:VCALENDAR