BEGIN:VCALENDAR
VERSION:2.0
CALSCALE:GREGORIAN
BEGIN:VEVENT
SUMMARY:Kinderyoga 4 tm 10 jaar
DTSTART;TZID=Europe/Amsterdam:20200527T150000
DTEND;TZID=Europe/Amsterdam:20200527T160000
LOCATION:Tuin het Raadhuis
DESCRIPTION: Docent Yamina
STATUS:CONFIRMED
SEQUENCE:0
END:VEVENT
END:VCALENDAR