BEGIN:VCALENDAR
VERSION:2.0
CALSCALE:GREGORIAN
BEGIN:VEVENT
SUMMARY:1e binnen les!!!! YIN yoga
DTSTART;TZID=Europe/Amsterdam:20200701T104500
DTEND;TZID=Europe/Amsterdam:20200701T114500
LOCATION:Room4 Velp
DESCRIPTION: 
STATUS:CONFIRMED
SEQUENCE:0
END:VEVENT
END:VCALENDAR