BEGIN:VCALENDAR
VERSION:2.0
CALSCALE:GREGORIAN
BEGIN:VEVENT
SUMMARY:Yin, Emmastraat 33
DTSTART;TZID=Europe/Amsterdam:20201212T110000
DTEND;TZID=Europe/Amsterdam:20201212T120000
LOCATION:Emmastraat 33
DESCRIPTION: Room4 Yoga is inviting you to a scheduled Zoom meeting.

Topic: yin
Time: Nov 14, 2020 11:00 Amsterdam
        Every week on Sat, until Dec 19, 2020, 6 occurrence(s)
        Nov 14, 2020 11:00
        Nov 21, 2020 11:00
        Nov 28, 2020 11:00
        Dec 5, 2020 11:00
        Dec 12, 2020 11:00
        Dec 19, 2020 11:00
Please download and import the following iCalendar (.ics) files to your calendar system.
Weekly: https://us02web.zoom.us/meeting/tZUtc-yqrD0oE9LzrF5QS4mIU2XTmPDwXGi5/ics?icsToken=98tyKuGprj8vGNaTshCBRpwcAo-gZ-rzpiFBj_pxhg3DVhFgNg7fA7B6Br9PNM_o

Join Zoom Meeting
https://us02web.zoom.us/j/81045226296?pwd=eHhHUmNKNWltWFMvWThGMWF3NmN0dz09

Meeting ID: 810 4522 6296
Passcode: 588964
STATUS:CONFIRMED
SEQUENCE:0
END:VEVENT
END:VCALENDAR