BEGIN:VCALENDAR
VERSION:2.0
CALSCALE:GREGORIAN
BEGIN:VEVENT
SUMMARY:BUITEN Yin, back up online!
DTSTART;TZID=Europe/Amsterdam:20200703T100000
DTEND;TZID=Europe/Amsterdam:20200703T110000
LOCATION:Biljoen Korfbal , rietganssingel
DESCRIPTION: 
STATUS:CONFIRMED
SEQUENCE:0
END:VEVENT
END:VCALENDAR