BEGIN:VCALENDAR
VERSION:2.0
CALSCALE:GREGORIAN
BEGIN:VEVENT
SUMMARY:Flow yoga binnenles
DTSTART;TZID=Europe/Amsterdam:20200706T203000
DTEND;TZID=Europe/Amsterdam:20200706T213000
LOCATION:Tuin het Raadhuis
DESCRIPTION: 
STATUS:CONFIRMED
SEQUENCE:0
END:VEVENT
END:VCALENDAR