BEGIN:VCALENDAR
VERSION:2.0
CALSCALE:GREGORIAN
BEGIN:VEVENT
SUMMARY:Zoomles DRU yoga (let op nieuwe zoomlink in email!!)
DTSTART;TZID=Europe/Amsterdam:20201110T201500
DTEND;TZID=Europe/Amsterdam:20201110T213000
LOCATION:Online vanuit de studio
DESCRIPTION: Room4 Yoga is inviting you to a scheduled Zoom meeting.Topic: Dru Yoga met Nonke
This is a recurring meeting 
Join Zoom meeting:
https://us02web.zoom.us/j/3639746787pwd=SDFHM3Z1K29FZlZCcE9tUnhXZkRoZz09

Meeting ID: 363 9746787
Passcode: druyoga
STATUS:CONFIRMED
SEQUENCE:0
END:VEVENT
END:VCALENDAR