BEGIN:VCALENDAR
VERSION:2.0
CALSCALE:GREGORIAN
BEGIN:VEVENT
SUMMARY:Intro in Yoga
DTSTART;TZID=Europe/Amsterdam:20200911T093000
DTEND;TZID=Europe/Amsterdam:20200911T103000
LOCATION:room2
DESCRIPTION: Deze les wordt gegeven door Walter Botman . In een reeks van 5 lessen laat hij je kennis maken met Yoga .
STATUS:CONFIRMED
SEQUENCE:0
END:VEVENT
END:VCALENDAR