BEGIN:VCALENDAR
VERSION:2.0
CALSCALE:GREGORIAN
BEGIN:VEVENT
SUMMARY:Online Pilates
DTSTART;TZID=Europe/Amsterdam:20201012T191500
DTEND;TZID=Europe/Amsterdam:20201012T201500
LOCATION:Emmastraat 33
DESCRIPTION: Room4 Yoga is inviting you to a scheduled Zoom meeting.

Topic: Pilates
Time: Oct 12, 2020 19:15 Amsterdam
        Every week on Mon, until Nov 2, 2020, 4 occurrence(s)
        Oct 12, 2020 19:15
        Oct 19, 2020 19:15
        Oct 26, 2020 19:15
        Nov 2, 2020 19:15
Please download and import the following iCalendar (.ics) files to your calendar system.
Weekly: https://us02web.zoom.us/meeting/tZMkcuqprDIoH9xpvxn5YE0ylv5KuuS7Gy0A/ics?icsToken=98tyKuGvpz4pG9acshyPRpwEHY_4b-vzplhBgvpFjAn9DXVqR1PvOvQXGadqI4_3

Join Zoom Meeting
https://us02web.zoom.us/j/87953129258?pwd=N2kzS2lZNVRUWHgzdTZmOHl6dlhIQT09

Meeting ID: 879 5312 9258
Passcode: 557668
STATUS:CONFIRMED
SEQUENCE:0
END:VEVENT
END:VCALENDAR