BEGIN:VCALENDAR
VERSION:2.0
CALSCALE:GREGORIAN
BEGIN:VEVENT
SUMMARY:Denk je aan het dragen van mondkapje bij binnenkomst en verlaten van de les! Dank je wel.
DTSTART;TZID=Europe/Amsterdam:20201020T122000
DTEND;TZID=Europe/Amsterdam:20201020T192000
LOCATION:Emmastraat 33
DESCRIPTION: 
STATUS:CONFIRMED
SEQUENCE:0
END:VEVENT
END:VCALENDAR