BEGIN:VCALENDAR
VERSION:2.0
CALSCALE:GREGORIAN
BEGIN:VEVENT
SUMMARY:Link naar Online les Marije
DTSTART;TZID=Europe/Amsterdam:20201106T101500
DTEND;TZID=Europe/Amsterdam:20201106T113000
LOCATION:Emmastraat 33
DESCRIPTION: 
STATUS:CONFIRMED
SEQUENCE:0
END:VEVENT
END:VCALENDAR