BEGIN:VCALENDAR
VERSION:2.0
CALSCALE:GREGORIAN
BEGIN:VEVENT
SUMMARY:update!!!!!!!! Vanaf donderdag worden alle lessen weer in de studio gegeven!!!!!
DTSTART;TZID=Europe/Amsterdam:20201118T120000
DTEND;TZID=Europe/Amsterdam:20201118T215500
LOCATION:Tuin het Raadhuis
DESCRIPTION: Goed nieuws!!!!
Vanaf aankomende donderdag mogen we onze lessen weer live gaan geven . Daar zijn wij uiteraard heel erg blij mee!!!!! 
Aan jou de vraag, check even je reservering!
Voor aankomende donderdag en vrijdag dien je nl. zelf een omboeking te maken.(als je van zoom.naar een live les wilt) Dit kan vanaf woe 12 uur!!!
Mocht je vragen hebben dan mag je ook een app sturen naar 0648531114.
Warme groet,
Team room4 Yoga
STATUS:CONFIRMED
SEQUENCE:0
END:VEVENT
END:VCALENDAR