BEGIN:VCALENDAR
VERSION:2.0
CALSCALE:GREGORIAN
BEGIN:VEVENT
SUMMARY:online Workshop Yin 3.3 niet leden
DTSTART;TZID=Europe/Amsterdam:20201205T200000
DTEND;TZID=Europe/Amsterdam:20201205T214500
LOCATION:online
DESCRIPTION: kosten 15 euro je ontvangt een betaallink voor deze les
STATUS:CONFIRMED
SEQUENCE:0
END:VEVENT
END:VCALENDAR