BEGIN:VCALENDAR
VERSION:2.0
CALSCALE:GREGORIAN
BEGIN:VEVENT
SUMMARY:FREE Meditatie 1 Verbind je met je adem
DTSTART;TZID=Europe/Amsterdam:20210117T090000
DTEND;TZID=Europe/Amsterdam:20210117T091500
LOCATION:Tuin het Raadhuis
DESCRIPTION: Basis meditatie, aandacht voor de adem.
Dit is een link.. deze kan je gebruiken op het tijdstip wat je het beste past.
STATUS:CONFIRMED
SEQUENCE:0
END:VEVENT
END:VCALENDAR