BEGIN:VCALENDAR
VERSION:2.0
CALSCALE:GREGORIAN
BEGIN:VEVENT
SUMMARY:Shop op afspraak
DTSTART;TZID=Europe/Amsterdam:20210313T130000
DTEND;TZID=Europe/Amsterdam:20210313T133000
LOCATION:emmastraat 33
DESCRIPTION: Helaas de yogastudio moet nog dicht blijven, maar de shop mag op afspraak open. 
Ben je benieuwd naar alle nieuwe lifestyle spulletjes ?
Reserveer dan hier je tijdsblok!
Leuk om je te zien.
Warme groet,
Sabine
STATUS:CONFIRMED
SEQUENCE:0
END:VEVENT
END:VCALENDAR