BEGIN:VCALENDAR
VERSION:2.0
CALSCALE:GREGORIAN
BEGIN:VEVENT
SUMMARY:Online Charity Class 瑜伽分享 Yoga Sharing
DTSTART;TZID=Asia/Hong_Kong:20220403T150000
DTEND;TZID=Asia/Hong_Kong:20220403T160000
LOCATION:Mong Kok
DESCRIPTION: You might consider yoga is just another form of physical exercise but that is not totally true, Calvin will share his thoughts in terms of &quot;What is yoga&quot;, &quot;how to practice yoga&quot; and so on...
STATUS:CONFIRMED
SEQUENCE:0
END:VEVENT
END:VCALENDAR