BEGIN:VCALENDAR
VERSION:2.0
CALSCALE:GREGORIAN
BEGIN:VEVENT
SUMMARY:Online Charity Class 基礎流瑜伽 Basic Flow with Noel
DTSTART;TZID=Asia/Hong_Kong:20220324T140000
DTEND;TZID=Asia/Hong_Kong:20220324T150000
LOCATION:Mong Kok
DESCRIPTION: 
STATUS:CONFIRMED
SEQUENCE:0
END:VEVENT
END:VCALENDAR