BEGIN:VCALENDAR
VERSION:2.0
CALSCALE:GREGORIAN
BEGIN:VEVENT
SUMMARY:Yoga Wheel (Winky) 瑜伽輪
DTSTART;TZID=Asia/Hong_Kong:20221010T184500
DTEND;TZID=Asia/Hong_Kong:20221010T194500
LOCATION:Mong Kok
DESCRIPTION: 
STATUS:CONFIRMED
SEQUENCE:0
END:VEVENT
END:VCALENDAR