BEGIN:VCALENDAR
VERSION:2.0
CALSCALE:GREGORIAN
BEGIN:VEVENT
SUMMARY:Hatha Stretch (Tony) 哈達伸展
DTSTART;TZID=Asia/Hong_Kong:20221025T190000
DTEND;TZID=Asia/Hong_Kong:20221025T200000
LOCATION:Mong Kok
DESCRIPTION: Basic stretching class may come along with pranayama and chanting practice.
STATUS:CONFIRMED
SEQUENCE:0
END:VEVENT
END:VCALENDAR