BEGIN:VCALENDAR
VERSION:2.0
CALSCALE:GREGORIAN
BEGIN:VEVENT
SUMMARY:Shoulder &amp; Heart Opening 胸肩伸展 75mins
DTSTART;TZID=Asia/Hong_Kong:20220424T101500
DTEND;TZID=Asia/Hong_Kong:20220424T113000
LOCATION:Mong Kok
DESCRIPTION: 如果你因為日常工作或者其他原因引致肩頸背痛，呢個課堂會好適合你，我會利用瑜伽磚及配合按摩嘅手法幫助你地舒緩不適。
STATUS:CONFIRMED
SEQUENCE:0
END:VEVENT
END:VCALENDAR