BEGIN:VCALENDAR
VERSION:2.0
CALSCALE:GREGORIAN
BEGIN:VEVENT
SUMMARY:Chakra Healing (Ally) 脈輪療癒
DTSTART;TZID=Asia/Hong_Kong:20221016T121500
DTEND;TZID=Asia/Hong_Kong:20221016T131500
LOCATION:Mong Kok
DESCRIPTION: 課堂以介紹脈輪概念為本，每次課堂的主題為平衡及療癒相應脈輪，由淺入深讓同學認識脈輪學說，從而令大家進一步認識自己。

課堂內容主要以調息法、體位練習、聲療及冥想等組合針對不同脈輪去進行療癒令能量歸於平衡。特別適合瑜伽練習者以開放的心態來參加，內觀自我。
STATUS:CONFIRMED
SEQUENCE:0
END:VEVENT
END:VCALENDAR