BEGIN:VCALENDAR
VERSION:2.0
CALSCALE:GREGORIAN
BEGIN:VEVENT
SUMMARY:Back Care 護脊瑜伽
DTSTART;TZID=Asia/Hong_Kong:20220527T134500
DTEND;TZID=Asia/Hong_Kong:20220527T144500
LOCATION:Mong Kok
DESCRIPTION: 
STATUS:CONFIRMED
SEQUENCE:0
END:VEVENT
END:VCALENDAR