BEGIN:VCALENDAR
VERSION:2.0
CALSCALE:GREGORIAN
BEGIN:VEVENT
SUMMARY:（EVENT）Gong Bath Nidra 銅鑼瑜伽睡眠 with Wayne Y.
DTSTART;TZID=Asia/Hong_Kong:20220612T133000
DTEND;TZID=Asia/Hong_Kong:20220612T143000
LOCATION:Mong Kok
DESCRIPTION: 
STATUS:CONFIRMED
SEQUENCE:0
END:VEVENT
END:VCALENDAR