BEGIN:VCALENDAR
VERSION:2.0
CALSCALE:GREGORIAN
BEGIN:VEVENT
SUMMARY:Free Flow (Noel) 自由流
DTSTART;TZID=Asia/Hong_Kong:20221110T114500
DTEND;TZID=Asia/Hong_Kong:20221110T124500
LOCATION:Mong Kok
DESCRIPTION: Free Flow with Universal Yoga

Universal Yoga (寰宇瑜伽)是由 Andrey Lappa 大師所創立的一套全方位的瑜伽體系，它建立在哈達瑜伽的概念之下，結合了體位、呼吸、禪定等多層面的練習法，令練習者的各層kosha都達到控制、平衡、合一。
STATUS:CONFIRMED
SEQUENCE:0
END:VEVENT
END:VCALENDAR