BEGIN:VCALENDAR
VERSION:2.0
CALSCALE:GREGORIAN
BEGIN:VEVENT
SUMMARY:Rehabilitate Yoga (Tony) 復健瑜伽
DTSTART;TZID=Asia/Hong_Kong:20221025T201500
DTEND;TZID=Asia/Hong_Kong:20221025T211500
LOCATION:Mong Kok
DESCRIPTION: 從基本瑜伽動作開始，指導學員矯正與強化全身結構線(Alignment)並建立穩固支撐。

結合瑜伽的體位法及呼吸法。精進傳統的練習方式，大幅提升穩定度，讓瑜伽化身成為功能強大的復健技術。
STATUS:CONFIRMED
SEQUENCE:0
END:VEVENT
END:VCALENDAR