BEGIN:VCALENDAR
VERSION:2.0
CALSCALE:GREGORIAN
BEGIN:VEVENT
SUMMARY:Functional Strerch 功能伸展
DTSTART;TZID=Asia/Hong_Kong:20220820T153000
DTEND;TZID=Asia/Hong_Kong:20220820T163000
LOCATION:Room 72 3/F Hong Lok Building, 92 Sai Yee Street, Mong Kok (Entrance next to Circle K)
DESCRIPTION: 
STATUS:CONFIRMED
SEQUENCE:0
END:VEVENT
END:VCALENDAR