BEGIN:VCALENDAR
VERSION:2.0
CALSCALE:GREGORIAN
BEGIN:VEVENT
SUMMARY:(Event) Restorative Yoga &amp; Sound Bath with Wayne Y. 聲療修復瑜伽
DTSTART;TZID=Asia/Hong_Kong:20220912T133000
DTEND;TZID=Asia/Hong_Kong:20220912T150000
LOCATION:Room 72 3/F Hong Lok Building, 92 Sai Yee Street, Mong Kok (Entrance next to Circle K)
DESCRIPTION: 
STATUS:CONFIRMED
SEQUENCE:0
END:VEVENT
END:VCALENDAR