BEGIN:VCALENDAR
VERSION:2.0
CALSCALE:GREGORIAN
BEGIN:VEVENT
SUMMARY:Yoga Stretch (Sherry) 瑜伽伸展
DTSTART;TZID=Asia/Hong_Kong:20221017T134500
DTEND;TZID=Asia/Hong_Kong:20221017T144500
LOCATION:Room 72 3/F Hong Lok Building, 92 Sai Yee Street, Mong Kok (Entrance next to Circle K)
DESCRIPTION: This beginners yoga class is great for people who are just starting out with yoga, seniors, or anyone who is looking for a gentle stretch class.
STATUS:CONFIRMED
SEQUENCE:0
END:VEVENT
END:VCALENDAR