BEGIN:VCALENDAR
VERSION:2.0
CALSCALE:GREGORIAN
BEGIN:VEVENT
SUMMARY:Morning Flow (Audrey) 早晨流瑜伽 - Small Room
DTSTART;TZID=Asia/Hong_Kong:20221010T093000
DTEND;TZID=Asia/Hong_Kong:20221010T104300
LOCATION:
DESCRIPTION: 
STATUS:CONFIRMED
SEQUENCE:0
END:VEVENT
END:VCALENDAR