BEGIN:VCALENDAR
VERSION:2.0
CALSCALE:GREGORIAN
BEGIN:VEVENT
SUMMARY:Prenatal  (Audrey) 孕婦產前瑜伽 - Small Room
DTSTART;TZID=Asia/Hong_Kong:20221023T104500
DTEND;TZID=Asia/Hong_Kong:20221023T114500
LOCATION:
DESCRIPTION: 
STATUS:CONFIRMED
SEQUENCE:0
END:VEVENT
END:VCALENDAR