BEGIN:VCALENDAR
VERSION:2.0
CALSCALE:GREGORIAN
BEGIN:VEVENT
SUMMARY:寰宇經典序列 —— 六次脈衝星形（練習）by Christina C.  (105 mins)
DTSTART;TZID=Asia/Hong_Kong:20230114T090000
DTEND;TZID=Asia/Hong_Kong:20230114T104500
LOCATION:Mong Kok
DESCRIPTION: 
STATUS:CONFIRMED
SEQUENCE:0
END:VEVENT
END:VCALENDAR