BEGIN:VCALENDAR
VERSION:2.0
CALSCALE:GREGORIAN
BEGIN:VEVENT
SUMMARY:Zwanger &amp; Yoga
DTSTART;TZID=Europe/Amsterdam:20220327T111500
DTEND;TZID=Europe/Amsterdam:20220327T123000
LOCATION:https://whereby.com/roosveldt
DESCRIPTION: 
STATUS:CONFIRMED
SEQUENCE:0
END:VEVENT
END:VCALENDAR