BEGIN:VCALENDAR
VERSION:2.0
CALSCALE:GREGORIAN
BEGIN:VEVENT
SUMMARY:Zwanger &amp; Yoga (buiten)
DTSTART;TZID=Europe/Amsterdam:20210801T111500
DTEND;TZID=Europe/Amsterdam:20210801T123000
LOCATION:Voormalig begraafplaats GGZ of Chiron/online: https://whereby.com/
DESCRIPTION: 
STATUS:CONFIRMED
SEQUENCE:0
END:VEVENT
END:VCALENDAR