BEGIN:VCALENDAR
VERSION:2.0
CALSCALE:GREGORIAN
BEGIN:VEVENT
SUMMARY:Ground &amp; Grow Basics
DTSTART;TZID=America/New_York:20251118T191500
DTEND;TZID=America/New_York:20251118T201500
LOCATION:
DESCRIPTION: A beginner-friendly class designed to lay the foundation for your yoga journey. Through alignment-based postures, mindful movement, and breath awareness, you’ll cultivate strength, balance, and confidence—building the roots to grow both on and off the mat.
STATUS:CONFIRMED
SEQUENCE:0
END:VEVENT
END:VCALENDAR