BEGIN:VCALENDAR
VERSION:2.0
CALSCALE:GREGORIAN
BEGIN:VEVENT
SUMMARY:Yin Yoga
DTSTART;TZID=America/New_York:20251201T194500
DTEND;TZID=America/New_York:20251201T204500
LOCATION:
DESCRIPTION: A gentle, meditative practice that invites stillness and deep release. Long-held poses target connective tissues and joints, helping to cultivate flexibility, calm the nervous system, and restore balance. This is a nurturing space to slow down, unwind, and reconnect with your body and breath.
STATUS:CONFIRMED
SEQUENCE:0
END:VEVENT
END:VCALENDAR