BEGIN:VCALENDAR
VERSION:2.0
CALSCALE:GREGORIAN
BEGIN:VEVENT
SUMMARY:Yoga am Samstag von zukuftigen Yoga-Lehrerinnen
DTSTART;TZID=Europe/Berlin:20250104T180000
DTEND;TZID=Europe/Berlin:20250104T191500
LOCATION:Kornstr 589
DESCRIPTION: 
STATUS:CONFIRMED
SEQUENCE:0
END:VEVENT
END:VCALENDAR