BEGIN:VCALENDAR
VERSION:2.0
CALSCALE:GREGORIAN
BEGIN:VEVENT
SUMMARY:Private Class [30 min]
DTSTART;TZID=America/Toronto:20250322T111500
DTEND;TZID=America/Toronto:20250322T114500
LOCATION:Virtual
DESCRIPTION: Use your 4-Class Pass to book this 30-minute virtual private class!
STATUS:CONFIRMED
SEQUENCE:0
END:VEVENT
END:VCALENDAR